BEGIN:VCALENDAR
PRODID:-//dvv-bw.de//dvv.Portalplattform//DE
VERSION:2.0
METHOD:PUBLISH
BEGIN:VEVENT
DTSTART:20260627T160000Z
DTEND:20260627T180000Z
DTSTAMP:20260420T030901Z
UID:523254540055-523254539952-1782511200000
SUMMARY:Sommerkonzert der Musikschule
LOCATION:Forum der Oskar-Schwenk-Schule\, Schulstraße 2\, 71111 Waldenbuch
DESCRIPTION:Es spielen Schüler*innen und Lehrer*innen\nder Musikschule Waldenbuch im Forum der Oskar-Schwenk-Schule \nDer Eintritt ist frei\, um Spenden wird gebeten
CLASS:PUBLIC
X-ALT-DESC;FMTTYPE=text/html:Es spielen Schüler*innen und Lehrer*innen<br>der Musikschule Waldenbuch im Forum der Oskar-Schwenk-Schule <br>Der Eintritt ist frei\, um Spenden wird gebeten
END:VEVENT
END:VCALENDAR
